BEGIN:VCALENDAR
VERSION:2.0
METHOD:PUBLISH
BEGIN:VEVENT
DTSTAMP:20260423T121250Z
DTSTART:20261117T230000Z
DTEND:20261118T045500Z
SUMMARY:National Grief and Bereavement Day
LOCATION:1400 Lakeshore Rd, Burlington, ON L7S 1Y2
END:VEVENT
END:VCALENDAR
