BEGIN:VCALENDAR
VERSION:2.0
METHOD:PUBLISH
BEGIN:VEVENT
DTSTAMP:20260421T191557Z
DTSTART:20261009T220000Z
DTEND:20261010T035500Z
SUMMARY:World PANS PANDAS Awareness Day 
LOCATION:1400 Lakeshore Rd, Burlington, ON L7S 1Y2
END:VEVENT
END:VCALENDAR
