BEGIN:VCALENDAR
VERSION:2.0
METHOD:PUBLISH
BEGIN:VEVENT
DTSTAMP:20260421T205258Z
DTSTART:20260630T220000Z
DTEND:20260701T035500Z
SUMMARY:Arthrogryposis Awareness Day
LOCATION:1400 Lakeshore Rd, Burlington, ON L7S 1Y2
END:VEVENT
END:VCALENDAR
