BEGIN:VCALENDAR
VERSION:2.0
METHOD:PUBLISH
BEGIN:VEVENT
DTSTAMP:20260422T092111Z
DTSTART:20260620T220000Z
DTEND:20260621T035500Z
SUMMARY:Six Nations of The Grand River
LOCATION:1400 Lakeshore Rd, Burlington, ON L7S 1Y2 
END:VEVENT
END:VCALENDAR
