BEGIN:VCALENDAR
VERSION:2.0
METHOD:PUBLISH
BEGIN:VEVENT
DTSTAMP:20260420T184847Z
DTSTART:20260619T220000Z
DTEND:20260620T035500Z
SUMMARY:The Metis
LOCATION:1400 Lakeshore Rd, Burlington, ON L7S 1Y2
END:VEVENT
END:VCALENDAR
