BEGIN:VCALENDAR
VERSION:2.0
METHOD:PUBLISH
BEGIN:VEVENT
DTSTAMP:20260420T184732Z
DTSTART:20260617T220000Z
DTEND:20260618T035500Z
SUMMARY:Mississaugas of the New Credit First Nation
LOCATION:1400 Lakeshore Rd, Burlington, ON L7S 1Y2
END:VEVENT
END:VCALENDAR
