BEGIN:VCALENDAR
VERSION:2.0
METHOD:PUBLISH
BEGIN:VEVENT
DTSTAMP:20260420T204600Z
DTSTART:20260614T220000Z
DTEND:20260615T035500Z
SUMMARY:ALS Awareness Month
LOCATION:1400 Lakeshore Rd, Burlington, ON L7S 1Y2
END:VEVENT
END:VCALENDAR
