BEGIN:VCALENDAR
VERSION:2.0
METHOD:PUBLISH
BEGIN:VEVENT
DTSTAMP:20260420T204137Z
DTSTART:20260612T220000Z
DTEND:20260613T035500Z
SUMMARY:Brain Injury Awareness Month
LOCATION:1400 Lakeshore Rd, Burlington, ON L7S 1Y2
END:VEVENT
END:VCALENDAR
