BEGIN:VCALENDAR
VERSION:2.0
METHOD:PUBLISH
BEGIN:VEVENT
DTSTAMP:20260420T204022Z
DTSTART:20260611T220000Z
DTEND:20260612T035500Z
SUMMARY:Lipedema Awareness Day
LOCATION:1400 Lakeshore Rd, Burlington, ON L7S 1Y2
END:VEVENT
END:VCALENDAR
