BEGIN:VCALENDAR
VERSION:2.0
METHOD:PUBLISH
BEGIN:VEVENT
DTSTAMP:20260420T185355Z
DTSTART:20260606T220000Z
DTEND:20260607T035500Z
SUMMARY:Seniors Month
LOCATION:1400 Lakeshore Rd, Burlington, ON L7S 1Y2
END:VEVENT
END:VCALENDAR
