BEGIN:VCALENDAR
VERSION:2.0
METHOD:PUBLISH
BEGIN:VEVENT
DTSTAMP:20260420T184948Z
DTSTART:20260605T220000Z
DTEND:20260606T035500Z
SUMMARY:World Environment Day and Canadian Enviornment Week
LOCATION:1400 Lakeshore Rd, Burlington, ON L7S 1Y2
END:VEVENT
END:VCALENDAR
