BEGIN:VCALENDAR
VERSION:2.0
METHOD:PUBLISH
BEGIN:VEVENT
DTSTAMP:20260421T174706Z
DTSTART:20260602T220000Z
DTEND:20260603T035500Z
SUMMARY:Spinal CSF Leak Awareness Week
LOCATION:1400 Lakeshore Rd, Burlington, ON L7S 1Y2
END:VEVENT
END:VCALENDAR
