BEGIN:VCALENDAR
VERSION:2.0
METHOD:PUBLISH
BEGIN:VEVENT
DTSTAMP:20260422T161100Z
DTSTART:20260529T220000Z
DTEND:20260530T035500Z
SUMMARY:Tourette Syndrome Awareness Month
LOCATION:1400 Lakeshore Rd, Burlington, ON L7S 1Y2 
END:VEVENT
END:VCALENDAR
