BEGIN:VCALENDAR
VERSION:2.0
METHOD:PUBLISH
BEGIN:VEVENT
DTSTAMP:20260420T190453Z
DTSTART:20260519T220000Z
DTEND:20260520T035500Z
SUMMARY:National Do Something Good For Your Neighbor Day
LOCATION:1400 Lakeshore Rd, Burlington, ON L7S 1Y2
END:VEVENT
END:VCALENDAR
