BEGIN:VCALENDAR
VERSION:2.0
METHOD:PUBLISH
BEGIN:VEVENT
DTSTAMP:20260422T205639Z
DTSTART:20260517T160000Z
DTEND:20260517T160000Z
SUMMARY:National Public Works Week
LOCATION:426 Brant Street, PO Box 5013, Burlington, Ontario L7R 3Z6
END:VEVENT
END:VCALENDAR
