BEGIN:VCALENDAR
VERSION:2.0
METHOD:PUBLISH
BEGIN:VEVENT
DTSTAMP:20260422T051030Z
DTSTART:20260426T160000Z
DTEND:20260426T160000Z
SUMMARY:Halton Learning Foundation Month
LOCATION:426 Brant Street, PO Box 5013, Burlington, Ontario L7R 3Z6
END:VEVENT
END:VCALENDAR
