BEGIN:VCALENDAR
VERSION:2.0
METHOD:PUBLISH
BEGIN:VEVENT
DTSTAMP:20260421T191308Z
DTSTART:20260425T220000Z
DTEND:20260426T035500Z
SUMMARY:Parental Alienation Awareness Day
LOCATION:1400 Lakeshore Rd, Burlington, ON L7S 1Y2
END:VEVENT
END:VCALENDAR
