BEGIN:VCALENDAR
VERSION:2.0
METHOD:PUBLISH
BEGIN:VEVENT
DTSTAMP:20260424T095634Z
DTSTART:20260425T040000Z
DTEND:20260425T040000Z
SUMMARY:Dalit History Month
LOCATION:426 Brant Street, PO Box 5013, Burlington, Ontario L7R 3Z6
END:VEVENT
END:VCALENDAR
