BEGIN:VCALENDAR
VERSION:2.0
METHOD:PUBLISH
BEGIN:VEVENT
DTSTAMP:20260422T104410Z
DTSTART:20260417T180000Z
DTEND:20260417T190000Z
SUMMARY:Council Information Package
END:VEVENT
END:VCALENDAR
