BEGIN:VCALENDAR
VERSION:2.0
METHOD:PUBLISH
BEGIN:VEVENT
DTSTAMP:20260424T163136Z
DTSTART:20221208T143000Z
DTEND:20221209T030000Z
SUMMARY:Environment, Infrastructure and Community Services Committee
END:VEVENT
END:VCALENDAR
