BEGIN:VCALENDAR
VERSION:2.0
METHOD:PUBLISH
BEGIN:VEVENT
DTSTAMP:20260424T204813Z
DTSTART:20220914T160000Z
DTEND:20220915T020000Z
SUMMARY:Special Meeting of Council - Immediately following Corporate Services, Strategy, Risk and Accountability
END:VEVENT
END:VCALENDAR
