BEGIN:VCALENDAR
VERSION:2.0
METHOD:PUBLISH
BEGIN:VEVENT
DTSTAMP:20260424T203848Z
DTSTART:20220914T133000Z
DTEND:20220915T020000Z
SUMMARY:Corporate Services, Strategy, Risk and Accountability Committee
END:VEVENT
END:VCALENDAR
