BEGIN:VCALENDAR
VERSION:2.0
METHOD:PUBLISH
BEGIN:VEVENT
DTSTAMP:20260424T034326Z
DTSTART:20220913T133000Z
DTEND:20220914T020000Z
SUMMARY:Community Planning, Regulation and Mobility Committee
END:VEVENT
END:VCALENDAR
