BEGIN:VCALENDAR
VERSION:2.0
METHOD:PUBLISH
BEGIN:VEVENT
DTSTAMP:20260420T010447Z
DTSTART:20220412T170000Z
DTEND:20220413T020000Z
SUMMARY:Community Planning, Regulation and Mobility Committee
END:VEVENT
END:VCALENDAR
