BEGIN:VCALENDAR
VERSION:2.0
METHOD:PUBLISH
BEGIN:VEVENT
DTSTAMP:20260424T125406Z
DTSTART:20260818T184500Z
DTEND:20260818T201500Z
SUMMARY:Access Storage Free Swims at Angela Coughlan Pool
LOCATION:2425 Upper Middle Rd, Burlington, ON L7P 3N9
END:VEVENT
END:VCALENDAR
