BEGIN:VCALENDAR
VERSION:2.0
METHOD:PUBLISH
BEGIN:VEVENT
DTSTAMP:20260424T111418Z
DTSTART:20260815T172000Z
DTEND:20260815T193000Z
SUMMARY:Access Storage Free Swims at Tansley Woods Pool
LOCATION:1996 Itabashi Way, Burlington, L7M 4J8
END:VEVENT
END:VCALENDAR
