BEGIN:VCALENDAR
VERSION:2.0
METHOD:PUBLISH
BEGIN:VEVENT
DTSTAMP:20260424T094718Z
DTSTART:20260805T163000Z
DTEND:20260806T000000Z
SUMMARY:Access Storage Free Swim at Mountainside Pool and Splash Park
LOCATION:2205 Mt Forest Dr, Burlington, ON L7P 1H8
END:VEVENT
END:VCALENDAR
