BEGIN:VCALENDAR
VERSION:2.0
METHOD:PUBLISH
BEGIN:VEVENT
DTSTAMP:20260424T111554Z
DTSTART:20260727T140000Z
DTEND:20260727T220000Z
SUMMARY:Access Storage Free Swim at LaSalle Wading Pool and Splash Park
LOCATION:50 North Shore Blvd E, Burlington, ON L7T 4G9
END:VEVENT
END:VCALENDAR
