BEGIN:VCALENDAR
VERSION:2.0
METHOD:PUBLISH
BEGIN:VEVENT
DTSTAMP:20260424T094617Z
DTSTART:20260725T150000Z
DTEND:20260725T170000Z
SUMMARY:Access Storage Free Swim at Centennial Pool
LOCATION:5151 New St, Burlington, ON L7L 1V3
END:VEVENT
END:VCALENDAR
