BEGIN:VCALENDAR
VERSION:2.0
METHOD:PUBLISH
BEGIN:VEVENT
DTSTAMP:20260424T111348Z
DTSTART:20260713T154500Z
DTEND:20260713T223000Z
SUMMARY:Access Storage Free Swim at Nelson Pool and Splash Park
LOCATION:4235 New St, Burlington, ON L7L 1T2
END:VEVENT
END:VCALENDAR
