BEGIN:VCALENDAR
VERSION:2.0
METHOD:PUBLISH
BEGIN:VEVENT
DTSTAMP:20260424T094733Z
DTSTART:20260704T173000Z
DTEND:20260704T193000Z
SUMMARY:Access Storage Free Swim at Aldershot Pool
LOCATION:50 Fairwood Pl W, Burlington, ON L7T 1E5
END:VEVENT
END:VCALENDAR
