BEGIN:VCALENDAR
VERSION:2.0
METHOD:PUBLISH
BEGIN:VEVENT
DTSTAMP:20260422T143415Z
DTSTART:20260625T160000Z
DTEND:20260625T183000Z
SUMMARY:June is Seniors Month featuring Lunch and Dance, Presented by Chartwell
LOCATION:50 North Shore Blvd. E.
END:VEVENT
END:VCALENDAR
