BEGIN:VCALENDAR
VERSION:2.0
METHOD:PUBLISH
BEGIN:VEVENT
DTSTAMP:20260422T143335Z
DTSTART:20260622T140000Z
DTEND:20260622T150000Z
SUMMARY:June is Seniors Month featuring Artful Talks, Presented by Chartwell
LOCATION:2285 New St, Burlington, ON L7R 1J4
END:VEVENT
END:VCALENDAR
