BEGIN:VCALENDAR
VERSION:2.0
METHOD:PUBLISH
BEGIN:VEVENT
DTSTAMP:20260422T143504Z
DTSTART:20260618T170000Z
DTEND:20260618T200000Z
SUMMARY:June is Seniors Month featuring Silver Screamers, Presented by Chartwell
LOCATION:3531 Wyecroft Rd., Oakville
END:VEVENT
END:VCALENDAR
