BEGIN:VCALENDAR
VERSION:2.0
METHOD:PUBLISH
BEGIN:VEVENT
DTSTAMP:20260422T160554Z
DTSTART:20260613T140000Z
DTEND:20260613T170000Z
SUMMARY:Burlington's Accessible Sport and Art Fair
LOCATION:1996 Itabashi Way
END:VEVENT
END:VCALENDAR
