BEGIN:VCALENDAR
VERSION:2.0
METHOD:PUBLISH
BEGIN:VEVENT
DTSTAMP:20260422T143040Z
DTSTART:20260526T220000Z
DTEND:20260527T000000Z
SUMMARY:eat make share Speaker Series: My Cypriot Table by Irene Matys
LOCATION:1240 North Shore Blvd E
END:VEVENT
END:VCALENDAR
