BEGIN:VCALENDAR
VERSION:2.0
METHOD:PUBLISH
BEGIN:VEVENT
DTSTAMP:20260422T143547Z
DTSTART:20260508T220000Z
DTEND:20260509T003000Z
SUMMARY:Mom’s Night Out | Tea &amp; International Treats Workshop
LOCATION:1240 North Shore Blvd E
END:VEVENT
END:VCALENDAR
