BEGIN:VCALENDAR
VERSION:2.0
METHOD:PUBLISH
BEGIN:VEVENT
DTSTAMP:20260423T115952Z
DTSTART:20260504T230000Z
DTEND:20260505T010000Z
SUMMARY:The Importance of Social Connections as We Age
LOCATION:2111 Walkers Line Burlington
END:VEVENT
END:VCALENDAR
