BEGIN:VCALENDAR
VERSION:2.0
METHOD:PUBLISH
BEGIN:VEVENT
DTSTAMP:20260422T143358Z
DTSTART:20260503T200000Z
DTEND:20260503T220000Z
SUMMARY:Burlington Concert Band Presents The Stars Among Us
LOCATION:Grace United Church, 211 Walkers Line
END:VEVENT
END:VCALENDAR
