BEGIN:VCALENDAR
VERSION:2.0
METHOD:PUBLISH
BEGIN:VEVENT
DTSTAMP:20260422T142920Z
DTSTART:20260503T160000Z
DTEND:20260503T173000Z
SUMMARY:Community Bike Ride - Ward 1
LOCATION:Kiwanis Park, 494 Townsend Ave, Burlington, ON L7T 2B3
END:VEVENT
END:VCALENDAR
