BEGIN:VCALENDAR
VERSION:2.0
METHOD:PUBLISH
BEGIN:VEVENT
DTSTAMP:20260421T183957Z
DTSTART:20260430T223000Z
DTEND:20260501T003000Z
SUMMARY:Ward 1 Town Hall
LOCATION:50 North Shore Blvd. E
END:VEVENT
END:VCALENDAR
