BEGIN:VCALENDAR
VERSION:2.0
METHOD:PUBLISH
BEGIN:VEVENT
DTSTAMP:20260421T201433Z
DTSTART:20260430T153000Z
DTEND:20260430T173000Z
SUMMARY:Mayor's Drop In
LOCATION:777 Guelph Line
END:VEVENT
END:VCALENDAR
