BEGIN:VCALENDAR
VERSION:2.0
METHOD:PUBLISH
BEGIN:VEVENT
DTSTAMP:20260423T122728Z
DTSTART:20260429T143000Z
DTEND:20260429T160000Z
SUMMARY:Ward 1 Drop-In Session
LOCATION:900 Maple Ave. 
END:VEVENT
END:VCALENDAR
