BEGIN:VCALENDAR
VERSION:2.0
METHOD:PUBLISH
BEGIN:VEVENT
DTSTAMP:20260421T133242Z
DTSTART:20260428T110000Z
DTEND:20260428T110000Z
SUMMARY:BurlingtonGreen invites YOU to take part in the city-wide Community Clean Up!
LOCATION:1094 Lakeshore Rd
END:VEVENT
END:VCALENDAR
