BEGIN:VCALENDAR
VERSION:2.0
METHOD:PUBLISH
BEGIN:VEVENT
DTSTAMP:20260421T174201Z
DTSTART:20260422T220000Z
DTEND:20260423T000000Z
SUMMARY:BurlingtonGreen's Earth Day Beach Clean Up
LOCATION:1094 Lakeshore Road
END:VEVENT
END:VCALENDAR
