BEGIN:VCALENDAR
VERSION:2.0
METHOD:PUBLISH
BEGIN:VEVENT
DTSTAMP:20260421T202120Z
DTSTART:20260414T133000Z
DTEND:20260414T133000Z
SUMMARY:Statutory Public Meeting:  Presentation of Proposed Draft Amendment to Affordable Rental Housing Community Improvement Plan 
LOCATION:426 Brant St or vitrual via hybrid
END:VEVENT
END:VCALENDAR
