BEGIN:VCALENDAR
VERSION:2.0
METHOD:PUBLISH
BEGIN:VEVENT
DTSTAMP:20260421T215619Z
DTSTART:20260414T133000Z
DTEND:20260414T133000Z
SUMMARY:Notice of Statutory Public Meeting and Recommendation Report for 1056-1060 Brant Street
LOCATION:426 Brant St or vitrual via hybrid
END:VEVENT
END:VCALENDAR
