BEGIN:VCALENDAR
VERSION:2.0
METHOD:PUBLISH
BEGIN:VEVENT
DTSTAMP:20260421T201728Z
DTSTART:20260411T150000Z
DTEND:20260411T190000Z
SUMMARY:AGB Community and Medicine Garden Opening
LOCATION:1333 Lakeshore Rd Burlington Ontario
END:VEVENT
END:VCALENDAR
