BEGIN:VCALENDAR
VERSION:2.0
METHOD:PUBLISH
BEGIN:VEVENT
DTSTAMP:20260421T215529Z
DTSTART:20260408T230000Z
DTEND:20260409T003000Z
SUMMARY:Townhall with Mayor Meed Ward
LOCATION:LaSalle Park Pavilion, 50 North Shore Blvd, Burlington
END:VEVENT
END:VCALENDAR
