BEGIN:VCALENDAR
VERSION:2.0
METHOD:PUBLISH
BEGIN:VEVENT
DTSTAMP:20260421T184152Z
DTSTART:20260407T223000Z
DTEND:20260407T233000Z
SUMMARY:Walkers Line - North Service Road to Dundas Street Public Information Session
LOCATION:Virtual via Zoom
END:VEVENT
END:VCALENDAR
